BEGIN:VCALENDAR
VERSION:2.0
PRODID:LFV Website-Kit
METHOD:PUBLISH
BEGIN:VEVENT
UID:lfv-052b5352-f027-4ed3-80f4-2bf7bb45d3e0
LOCATION:Unterglauheim
SUMMARY:150+1 jähriges Gründungsfest FF Unterglauheim
DESCRIPTION:Termin Link: http://www.kfv-dillingen.de/termine/150-1-jaehriges-Gruendungsfest-FF-Unterglauheim/
URL:http://www.kfv-dillingen.de/termine/150-1-jaehriges-Gruendungsfest-FF-Unterglauheim/
CLASS:PRIVATE
DTSTART;TZID=Europe/Berlin:20270611T000000
DTEND;TZID=Europe/Berlin:20270613T000000
DTSTAMP:20260423T034124Z
END:VEVENT
END:VCALENDAR