BEGIN:VCALENDAR
VERSION:2.0
PRODID:LFV Website-Kit
METHOD:PUBLISH
BEGIN:VEVENT
UID:lfv-2ecb01f2-391e-4b3c-9bc2-24949e4c78b4
LOCATION:Schwenningen
SUMMARY:150 Jahre FF Schwenningen
DESCRIPTION:Termin Link: http://www.kfv-dillingen.de/termine/150-jahre-ff-schwenningen/
URL:http://www.kfv-dillingen.de/termine/150-jahre-ff-schwenningen/
CLASS:PRIVATE
DTSTART;TZID=Europe/Berlin:20260603T000000
DTEND;TZID=Europe/Berlin:20260607T000000
DTSTAMP:20260420T205412Z
END:VEVENT
END:VCALENDAR