BEGIN:VCALENDAR
VERSION:2.0
PRODID:LFV Website-Kit
METHOD:PUBLISH
BEGIN:VEVENT
UID:lfv-4fd56336-daf4-4730-b169-241859b5f715
LOCATION:
SUMMARY:150 Jähriges Gründungsfest FF Aislingen
DESCRIPTION:150 Jähriges Gründungsfest\n\nTermin Link: http://www.kfv-dillingen.de/termine/150-jahriges-grundungsfest-ff-aislingen/
URL:http://www.kfv-dillingen.de/termine/150-jahriges-grundungsfest-ff-aislingen/
CLASS:PRIVATE
DTSTART;TZID=Europe/Berlin:20260627T000000
DTEND;TZID=Europe/Berlin:20260628T000000
DTSTAMP:20260421T070916Z
END:VEVENT
END:VCALENDAR