BEGIN:VCALENDAR
VERSION:2.0
PRODID:LFV Website-Kit
METHOD:PUBLISH
BEGIN:VEVENT
UID:lfv-7a291fe4-cf57-466f-9de7-d09406fad369
LOCATION:Baumgarten
SUMMARY:150 Jähriges Gründungsfest FF Baumgarten
DESCRIPTION:Termin Link: http://www.kfv-dillingen.de/termine/150-jahriges-grundungsfest-ff-baumgarten/
URL:http://www.kfv-dillingen.de/termine/150-jahriges-grundungsfest-ff-baumgarten/
CLASS:PRIVATE
DTSTART;TZID=Europe/Berlin:20280722T000000
DTEND;TZID=Europe/Berlin:20280723T000000
DTSTAMP:20260423T224538Z
END:VEVENT
END:VCALENDAR