BEGIN:VCALENDAR
VERSION:2.0
PRODID:LFV Website-Kit
METHOD:PUBLISH
BEGIN:VEVENT
UID:lfv-658080b8-4c48-4a6e-9f7a-332e492aff67
LOCATION:Blindheim
SUMMARY:150 Jähriges Gründungsfest FF Blindheim
DESCRIPTION:Termin Link: http://www.kfv-dillingen.de/termine/150-jahriges-grundungsfest-ff-blindheim/
URL:http://www.kfv-dillingen.de/termine/150-jahriges-grundungsfest-ff-blindheim/
CLASS:PRIVATE
DTSTART;TZID=Europe/Berlin:20260625T000000
DTEND;TZID=Europe/Berlin:20260628T000000
DTSTAMP:20260421T033020Z
END:VEVENT
END:VCALENDAR