BEGIN:VCALENDAR
VERSION:2.0
PRODID:LFV Website-Kit
METHOD:PUBLISH
BEGIN:VEVENT
UID:lfv-4e3280bf-d552-4e19-ae08-83017dea7793
LOCATION:Burghagel
SUMMARY:150 Jähriges Gründungsfest FF Burghagel
DESCRIPTION:Termin Link: http://www.kfv-dillingen.de/termine/150-jahriges-grundungsfest-ff-burghagel/
URL:http://www.kfv-dillingen.de/termine/150-jahriges-grundungsfest-ff-burghagel/
CLASS:PRIVATE
DTSTART;TZID=Europe/Berlin:20260522T000000
DTEND;TZID=Europe/Berlin:20260525T000000
DTSTAMP:20260420T190438Z
END:VEVENT
END:VCALENDAR