BEGIN:VCALENDAR
VERSION:2.0
PRODID:LFV Website-Kit
METHOD:PUBLISH
BEGIN:VEVENT
UID:lfv-333d151b-c987-4fd4-a5bd-67c75325a390
LOCATION:Deisenhofen
SUMMARY:150 Jähriges Gründungsfest FF Deisenhofen
DESCRIPTION:Termin Link: http://www.kfv-dillingen.de/termine/150-jahriges-grundungsfest-ff-deisenhofen/
URL:http://www.kfv-dillingen.de/termine/150-jahriges-grundungsfest-ff-deisenhofen/
CLASS:PRIVATE
DTSTART;TZID=Europe/Berlin:20260516T000000
DTEND;TZID=Europe/Berlin:20260517T000000
DTSTAMP:20260420T173346Z
END:VEVENT
END:VCALENDAR