BEGIN:VCALENDAR
VERSION:2.0
PRODID:LFV Website-Kit
METHOD:PUBLISH
BEGIN:VEVENT
UID:lfv-4b420f9e-f5b1-4a5c-9e43-85f00c4106d9
LOCATION:Fristingen
SUMMARY:150 jähriges Gründungsfest FF Fristingen
DESCRIPTION:150 Jahre FF Fristingen und 125 Jahre SG Fristingen\n\nTermin Link: http://www.kfv-dillingen.de/termine/150-jahriges-grundungsfest-ff-fristingen/
URL:http://www.kfv-dillingen.de/termine/150-jahriges-grundungsfest-ff-fristingen/
CLASS:PRIVATE
DTSTART;VALUE=DATE:20270505
DTEND;VALUE=DATE:20270517
DTSTAMP:20260422T210423Z
END:VEVENT
END:VCALENDAR