BEGIN:VCALENDAR
VERSION:2.0
PRODID:LFV Website-Kit
METHOD:PUBLISH
BEGIN:VEVENT
UID:lfv-59492adb-7953-43e5-a0dd-4f9e43374e2e
LOCATION:
SUMMARY:150 Jähriges Gründungsfest FF Fronhofen
DESCRIPTION:Termin Link: http://www.kfv-dillingen.de/termine/150-jahriges-grundungsfest-ff-fronhofen/
URL:http://www.kfv-dillingen.de/termine/150-jahriges-grundungsfest-ff-fronhofen/
CLASS:PRIVATE
DTSTART;TZID=Europe/Berlin:20280630T000000
DTEND;TZID=Europe/Berlin:20280703T000000
DTSTAMP:20260423T212210Z
END:VEVENT
END:VCALENDAR