BEGIN:VCALENDAR
VERSION:2.0
PRODID:LFV Website-Kit
METHOD:PUBLISH
BEGIN:VEVENT
UID:lfv-58c2053a-4a31-402f-9c15-c84ed8c9fb44
LOCATION:89443 Gremheim
SUMMARY:150 Jähriges Gründungsfest FF Gremheim
DESCRIPTION:Termin Link: http://www.kfv-dillingen.de/termine/150-jahriges-grundungsfest-ff-gremheim/
URL:http://www.kfv-dillingen.de/termine/150-jahriges-grundungsfest-ff-gremheim/
CLASS:PRIVATE
DTSTART;TZID=Europe/Berlin:20270709T000000
DTEND;TZID=Europe/Berlin:20270712T000000
DTSTAMP:20260423T111254Z
END:VEVENT
END:VCALENDAR