BEGIN:VCALENDAR
VERSION:2.0
PRODID:LFV Website-Kit
METHOD:PUBLISH
BEGIN:VEVENT
UID:lfv-73f5cd82-e1dd-4470-8cb7-61213902b483
LOCATION:89437 Haunsheim
SUMMARY:150 Jähriges Gründungsfest FF Haunsheim
DESCRIPTION:Termin Link: http://www.kfv-dillingen.de/termine/150-jahriges-grundungsfest-ff-haunsheim/
URL:http://www.kfv-dillingen.de/termine/150-jahriges-grundungsfest-ff-haunsheim/
CLASS:PRIVATE
DTSTART;TZID=Europe/Berlin:20260724T000000
DTEND;TZID=Europe/Berlin:20260726T000000
DTSTAMP:20260421T184620Z
END:VEVENT
END:VCALENDAR