BEGIN:VCALENDAR
VERSION:2.0
PRODID:LFV Website-Kit
METHOD:PUBLISH
BEGIN:VEVENT
UID:lfv-029e91b5-66d6-4e0e-95f1-cee5dcc39b08
LOCATION:89407 Hausen
SUMMARY:150 Jähriges Gründungsfest FF Hausen
DESCRIPTION:Termin Link: http://www.kfv-dillingen.de/termine/150-jahriges-grundungsfest-ff-hausen/
URL:http://www.kfv-dillingen.de/termine/150-jahriges-grundungsfest-ff-hausen/
CLASS:PRIVATE
DTSTART;TZID=Europe/Berlin:20260724T000000
DTEND;TZID=Europe/Berlin:20260726T000000
DTSTAMP:20260421T171606Z
END:VEVENT
END:VCALENDAR