BEGIN:VCALENDAR
VERSION:2.0
PRODID:LFV Website-Kit
METHOD:PUBLISH
BEGIN:VEVENT
UID:lfv-44b75c63-6979-413f-95b5-679fccb33462
LOCATION:Hohenreichen
SUMMARY:150 Jähriges Gründungsfest FF Hohenreichen
DESCRIPTION:Termin Link: http://www.kfv-dillingen.de/termine/150-jahriges-grundungsfest-ff-hohenreichen/
URL:http://www.kfv-dillingen.de/termine/150-jahriges-grundungsfest-ff-hohenreichen/
CLASS:PRIVATE
DTSTART;TZID=Europe/Berlin:20260709T000000
DTEND;TZID=Europe/Berlin:20260712T000000
DTSTAMP:20260421T090446Z
END:VEVENT
END:VCALENDAR