BEGIN:VCALENDAR
VERSION:2.0
PRODID:LFV Website-Kit
METHOD:PUBLISH
BEGIN:VEVENT
UID:lfv-c1396a3e-3e52-47b0-a850-f3166869ff00
LOCATION:Kicklingen
SUMMARY:150 Jähriges Gründungsfest FF Kicklingen
DESCRIPTION:Termin Link: http://www.kfv-dillingen.de/termine/150-jahriges-grundungsfest-ff-kicklingen/
URL:http://www.kfv-dillingen.de/termine/150-jahriges-grundungsfest-ff-kicklingen/
CLASS:PRIVATE
DTSTART;TZID=Europe/Berlin:20260508T000000
DTEND;TZID=Europe/Berlin:20260510T000000
DTSTAMP:20260420T160003Z
END:VEVENT
END:VCALENDAR