BEGIN:VCALENDAR
VERSION:2.0
PRODID:LFV Website-Kit
METHOD:PUBLISH
BEGIN:VEVENT
UID:lfv-739d09a6-1ea4-4e1b-9e7a-c61527814719
LOCATION:Landshausen
SUMMARY:150 Jähriges Gründungsfest FF Landshausen
DESCRIPTION:Termin Link: http://www.kfv-dillingen.de/termine/150-jahriges-grundungsfest-ff-landshausen/
URL:http://www.kfv-dillingen.de/termine/150-jahriges-grundungsfest-ff-landshausen/
CLASS:PRIVATE
DTSTART;TZID=Europe/Berlin:20270604T000000
DTEND;TZID=Europe/Berlin:20270606T000000
DTSTAMP:20260423T014313Z
END:VEVENT
END:VCALENDAR