BEGIN:VCALENDAR
VERSION:2.0
PRODID:LFV Website-Kit
METHOD:PUBLISH
BEGIN:VEVENT
UID:lfv-9a9074fe-3fe8-4201-b6b0-b0e419cb92a3
LOCATION:Mörslingen
SUMMARY:150-jähriges Gründungsfest FF Mörslingen
DESCRIPTION:Termin Link: http://www.kfv-dillingen.de/termine/150-jahriges-grundungsfest-ff-morslingen/
URL:http://www.kfv-dillingen.de/termine/150-jahriges-grundungsfest-ff-morslingen/
CLASS:PRIVATE
DTSTART;TZID=Europe/Berlin:20270526T000000
DTEND;TZID=Europe/Berlin:20270530T230000
DTSTAMP:20260423T001130Z
END:VEVENT
END:VCALENDAR