BEGIN:VCALENDAR
VERSION:2.0
PRODID:LFV Website-Kit
METHOD:PUBLISH
BEGIN:VEVENT
UID:lfv-c02ae438-37db-4d0a-9c9c-75c5837d192d
LOCATION:
SUMMARY:150 Jähriges Gründungsfest FF Oberliezheim
DESCRIPTION:Termin Link: http://www.kfv-dillingen.de/termine/150-jahriges-grundungsfest-ff-oberliezheim/
URL:http://www.kfv-dillingen.de/termine/150-jahriges-grundungsfest-ff-oberliezheim/
CLASS:PRIVATE
DTSTART;TZID=Europe/Berlin:20270618T000000
DTEND;TZID=Europe/Berlin:20270620T000000
DTSTAMP:20260423T051849Z
END:VEVENT
END:VCALENDAR