BEGIN:VCALENDAR
VERSION:2.0
PRODID:LFV Website-Kit
METHOD:PUBLISH
BEGIN:VEVENT
UID:lfv-0aa34d04-6749-48f2-9f62-76dd2579d5e6
LOCATION:Peterswörth
SUMMARY:150 Jähriges Gründungsfest FF Peterswörth
DESCRIPTION:Termin Link: http://www.kfv-dillingen.de/termine/150-jahriges-grundungsfest-ff-petersworth/
URL:http://www.kfv-dillingen.de/termine/150-jahriges-grundungsfest-ff-petersworth/
CLASS:PRIVATE
DTSTART;TZID=Europe/Berlin:20260711T000000
DTEND;TZID=Europe/Berlin:20260712T000000
DTSTAMP:20260421T122447Z
END:VEVENT
END:VCALENDAR