BEGIN:VCALENDAR
VERSION:2.0
PRODID:LFV Website-Kit
METHOD:PUBLISH
BEGIN:VEVENT
UID:lfv-ace58bea-921f-48b2-ab1f-3d79211e4829
LOCATION:
SUMMARY:150 Jähriges Gründungsfest FF Riedsend
DESCRIPTION:Termin Link: http://www.kfv-dillingen.de/termine/150-jahriges-grundungsfest-ff-riedsend/
URL:http://www.kfv-dillingen.de/termine/150-jahriges-grundungsfest-ff-riedsend/
CLASS:PRIVATE
DTSTART;VALUE=DATE:20270522
DTEND;VALUE=DATE:20270524
DTSTAMP:20260422T223244Z
END:VEVENT
END:VCALENDAR