BEGIN:VCALENDAR
VERSION:2.0
PRODID:LFV Website-Kit
METHOD:PUBLISH
BEGIN:VEVENT
UID:lfv-c3eca144-485c-4d0c-9d9b-214dc8c9b8f4
LOCATION:89426 Schabringen
SUMMARY:150 Jähriges Gründungsfest FF Schabringen
DESCRIPTION:Termin Link: http://www.kfv-dillingen.de/termine/150-jahriges-grundungsfest-ff-schabringen/
URL:http://www.kfv-dillingen.de/termine/150-jahriges-grundungsfest-ff-schabringen/
CLASS:PRIVATE
DTSTART;TZID=Europe/Berlin:20270619T000000
DTEND;TZID=Europe/Berlin:20270620T000000
DTSTAMP:20260423T065312Z
END:VEVENT
END:VCALENDAR