BEGIN:VCALENDAR
VERSION:2.0
PRODID:LFV Website-Kit
METHOD:PUBLISH
BEGIN:VEVENT
UID:lfv-f6de2403-3b50-43b4-bc19-9b3b3177e26c
LOCATION:89420 Sonderheim (VG Höchstädt)
SUMMARY:150 Jähriges Gründungsfest FF Sonderheim
DESCRIPTION:Termin Link: http://www.kfv-dillingen.de/termine/150-jahriges-grundungsfest-ff-sonderheim/
URL:http://www.kfv-dillingen.de/termine/150-jahriges-grundungsfest-ff-sonderheim/
CLASS:PRIVATE
DTSTART;TZID=Europe/Berlin:20270715T000000
DTEND;TZID=Europe/Berlin:20270718T000000
DTSTAMP:20260423T124936Z
END:VEVENT
END:VCALENDAR