BEGIN:VCALENDAR
VERSION:2.0
PRODID:LFV Website-Kit
METHOD:PUBLISH
BEGIN:VEVENT
UID:lfv-74752545-cb95-4083-a8ff-eab879831ad3
LOCATION:
SUMMARY:150 Jähriges Gründungsfest FF Staufen
DESCRIPTION:Termin Link: http://www.kfv-dillingen.de/termine/150-jahriges-grundungsfest-ff-staufen-1/
URL:http://www.kfv-dillingen.de/termine/150-jahriges-grundungsfest-ff-staufen-1/
CLASS:PRIVATE
DTSTART;TZID=Europe/Berlin:20260711T000000
DTEND;TZID=Europe/Berlin:20260712T000000
DTSTAMP:20260421T103540Z
END:VEVENT
END:VCALENDAR