BEGIN:VCALENDAR
VERSION:2.0
PRODID:LFV Website-Kit
METHOD:PUBLISH
BEGIN:VEVENT
UID:lfv-fd72def6-dfa1-4b64-b23d-4ea23bcf5f86
LOCATION:
SUMMARY:150 Jähriges Gründungsfest FF Staufen
DESCRIPTION:Termin Link: http://www.kfv-dillingen.de/termine/150-jahriges-grundungsfest-ff-staufen/
URL:http://www.kfv-dillingen.de/termine/150-jahriges-grundungsfest-ff-staufen/
CLASS:PRIVATE
DTSTART;TZID=Europe/Berlin:20260712T000000
DTEND;TZID=Europe/Berlin:20260712T000000
DTSTAMP:20260421T140744Z
END:VEVENT
END:VCALENDAR