BEGIN:VCALENDAR
VERSION:2.0
PRODID:LFV Website-Kit
METHOD:PUBLISH
BEGIN:VEVENT
UID:lfv-34a3ca6d-5139-441a-8101-dbf28ca60d79
LOCATION:Stillnau  86657 Bissingen
SUMMARY:150 Jähriges Gründungsfest FF Stillnau
DESCRIPTION:Termin Link: http://www.kfv-dillingen.de/termine/150-jahriges-grundungsfest-ff-stillnau/
URL:http://www.kfv-dillingen.de/termine/150-jahriges-grundungsfest-ff-stillnau/
CLASS:PRIVATE
DTSTART;TZID=Europe/Berlin:20270730T000000
DTEND;TZID=Europe/Berlin:20270801T000000
DTSTAMP:20260423T164010Z
END:VEVENT
END:VCALENDAR