BEGIN:VCALENDAR
VERSION:2.0
PRODID:LFV Website-Kit
METHOD:PUBLISH
BEGIN:VEVENT
UID:lfv-90edf13f-b077-4a51-8d28-af2930d9726a
LOCATION:Tapfheim
SUMMARY:150 Jähriges Gründungsfest FF Tapfheim
DESCRIPTION:Termin Link: http://www.kfv-dillingen.de/termine/150-jahriges-grundungsfest-ff-tapfheim/
URL:http://www.kfv-dillingen.de/termine/150-jahriges-grundungsfest-ff-tapfheim/
CLASS:PRIVATE
DTSTART;TZID=Europe/Berlin:20260904T000000
DTEND;TZID=Europe/Berlin:20260906T000000
DTSTAMP:20260421T204615Z
END:VEVENT
END:VCALENDAR