BEGIN:VCALENDAR
VERSION:2.0
PRODID:LFV Website-Kit
METHOD:PUBLISH
BEGIN:VEVENT
UID:lfv-1831f526-2b4a-4912-87be-98cc630b8f98
LOCATION:Unterliezheim (Gemeinde Lutzingen)
SUMMARY:150 Jähriges Gründungsfest FF Unterliezheim
DESCRIPTION:Termin Link: http://www.kfv-dillingen.de/termine/150-jahriges-grundungsfest-ff-unterliezheim/
URL:http://www.kfv-dillingen.de/termine/150-jahriges-grundungsfest-ff-unterliezheim/
CLASS:PRIVATE
DTSTART;TZID=Europe/Berlin:20270626T000000
DTEND;TZID=Europe/Berlin:20270627T235900
DTSTAMP:20260423T095847Z
END:VEVENT
END:VCALENDAR