BEGIN:VCALENDAR
VERSION:2.0
PRODID:LFV Website-Kit
METHOD:PUBLISH
BEGIN:VEVENT
UID:lfv-e38aceb7-fc37-4f02-94b8-77d061c5b207
LOCATION:
SUMMARY:150 Jähriges Gründungsfest FF Wittislingen
DESCRIPTION:Termin Link: http://www.kfv-dillingen.de/termine/150-jahriges-grundungsfest-ff-wittislingen/
URL:http://www.kfv-dillingen.de/termine/150-jahriges-grundungsfest-ff-wittislingen/
CLASS:PRIVATE
DTSTART;TZID=Europe/Berlin:20260626T000000
DTEND;TZID=Europe/Berlin:20260628T000000
DTSTAMP:20260421T052025Z
END:VEVENT
END:VCALENDAR