BEGIN:VCALENDAR
VERSION:2.0
PRODID:LFV Website-Kit
METHOD:PUBLISH
BEGIN:VEVENT
UID:lfv-8f4e1b56-6d25-404d-97fc-d8daa8d8d440
LOCATION:
SUMMARY:150 Jähriges Gründungsfest FF Wortelstetten
DESCRIPTION:Termin Link: http://www.kfv-dillingen.de/termine/150-jahriges-grundungsfest-ff-wortelstetten/
URL:http://www.kfv-dillingen.de/termine/150-jahriges-grundungsfest-ff-wortelstetten/
CLASS:PRIVATE
DTSTART;TZID=Europe/Berlin:20270721T000000
DTEND;TZID=Europe/Berlin:20270725T000000
DTSTAMP:20260423T144820Z
END:VEVENT
END:VCALENDAR