BEGIN:VCALENDAR
VERSION:2.0
PRODID:LFV Website-Kit
METHOD:PUBLISH
BEGIN:VEVENT
UID:lfv-528fcbc0-112f-4b11-8f49-e80dacf7312f
LOCATION:Amerdingen
SUMMARY:150+1 Jähriges Gründungsfest FF Amerdingen
DESCRIPTION:Termin Link: http://www.kfv-dillingen.de/termine/1501-jahriges-grundungsfest-ff-amerdingen/
URL:http://www.kfv-dillingen.de/termine/1501-jahriges-grundungsfest-ff-amerdingen/
CLASS:PRIVATE
DTSTART;VALUE=DATE:20270625
DTEND;VALUE=DATE:20270628
DTSTAMP:20260423T081158Z
END:VEVENT
END:VCALENDAR