BEGIN:VCALENDAR
VERSION:2.0
PRODID:LFV Website-Kit
METHOD:PUBLISH
BEGIN:VEVENT
UID:lfv-1eafbe5a-96b1-45e6-a905-4b27189ee30b
LOCATION:
SUMMARY:150+1 jähriges Gründungsfest FF Veitriedhausen
DESCRIPTION:Termin Link: http://www.kfv-dillingen.de/termine/1501-jahriges-grundungsfest-ff-veitriedhausen/
URL:http://www.kfv-dillingen.de/termine/1501-jahriges-grundungsfest-ff-veitriedhausen/
CLASS:PRIVATE
DTSTART;TZID=Europe/Berlin:20280609T000000
DTEND;TZID=Europe/Berlin:20280611T000000
DTSTAMP:20260423T195019Z
END:VEVENT
END:VCALENDAR