BEGIN:VCALENDAR
VERSION:2.0
PRODID:LFV Website-Kit
METHOD:PUBLISH
BEGIN:VEVENT
UID:lfv-c8f7c3b7-ce8c-4637-99da-af27ce7f4b25
LOCATION:Cham/ Oberpfalz
SUMMARY:33. Landesverbandsversammlung LFV-Bayern
DESCRIPTION:Termin Link: http://www.kfv-dillingen.de/termine/33-landesverbandsversammlung-lfv-bayern/
URL:http://www.kfv-dillingen.de/termine/33-landesverbandsversammlung-lfv-bayern/
CLASS:PRIVATE
DTSTART;TZID=Europe/Berlin:20260925T000000
DTEND;TZID=Europe/Berlin:20260926T000000
DTSTAMP:20260422T000243Z
END:VEVENT
END:VCALENDAR