BEGIN:VCALENDAR
VERSION:2.0
PRODID:LFV Website-Kit
METHOD:PUBLISH
BEGIN:VEVENT
UID:lfv-f504b560-40d8-477c-acbe-bf352a37fd25
LOCATION:Oberallgäu
SUMMARY:34. Verbandsversammlung BFV- Schwaben
DESCRIPTION:Termin Link: http://www.kfv-dillingen.de/termine/34-verbandsversammlung-bfv-schwaben/
URL:http://www.kfv-dillingen.de/termine/34-verbandsversammlung-bfv-schwaben/
CLASS:PRIVATE
DTSTART;TZID=Europe/Berlin:20261024T090000
DTEND;TZID=Europe/Berlin:20261024T130000
DTSTAMP:20260422T070105Z
END:VEVENT
END:VCALENDAR