BEGIN:VCALENDAR
VERSION:2.0
PRODID:LFV Website-Kit
METHOD:PUBLISH
BEGIN:VEVENT
UID:lfv-bea48449-b4fb-4c8f-8d4c-7821e2eb015f
LOCATION:
SUMMARY:450 jähriges Gründungsfest Feuerwehr Bissingen-Hochstein-Unterbissingen
DESCRIPTION:Termin Link: http://www.kfv-dillingen.de/termine/450-jahriges-grundungsfest-feuerwehr-bissingen-hochstein-unterbissingen/
URL:http://www.kfv-dillingen.de/termine/450-jahriges-grundungsfest-feuerwehr-bissingen-hochstein-unterbissingen/
CLASS:PRIVATE
DTSTART;VALUE=DATE:20260717
DTEND;VALUE=DATE:20260721
DTSTAMP:20260421T153806Z
END:VEVENT
END:VCALENDAR