BEGIN:VCALENDAR
VERSION:2.0
PRODID:LFV Website-Kit
METHOD:PUBLISH
BEGIN:VEVENT
UID:lfv-8b91e9dd-2c74-42a7-8295-868418a9084a
LOCATION:89407 Dillingen
SUMMARY:Einladung zur offizielle Übergabe von FW-KatS-Fahrzeugen
DESCRIPTION:Übergabe staatseigene „FW-Versorgungs-Lkw Notstrom“ und bundeseigener „CRBN-ErkW“\n\nTermin Link: http://www.kfv-dillingen.de/termine/einladung-zur-offizielle-ubergabe-von-fw-kats-fahrzeugen/
URL:http://www.kfv-dillingen.de/termine/einladung-zur-offizielle-ubergabe-von-fw-kats-fahrzeugen/
CLASS:PRIVATE
DTSTART;TZID=Europe/Berlin:20260418T090000
DTEND;TZID=Europe/Berlin:20260418T120000
DTSTAMP:20260420T105728Z
END:VEVENT
END:VCALENDAR