BEGIN:VCALENDAR
VERSION:2.0
PRODID:LFV Website-Kit
METHOD:PUBLISH
BEGIN:VEVENT
UID:lfv-deb7a47a-6a13-4a7b-83b4-f1498d832b0f
LOCATION:
SUMMARY:Feuerwehraktionswoche 2026
DESCRIPTION:Vorankündigung\n\nTermin Link: http://www.kfv-dillingen.de/termine/feuerwehraktionswoche-2024/
URL:http://www.kfv-dillingen.de/termine/feuerwehraktionswoche-2024/
CLASS:PRIVATE
DTSTART;TZID=Europe/Berlin:20260926T000000
DTEND;TZID=Europe/Berlin:20261002T000000
DTSTAMP:20260422T013925Z
END:VEVENT
END:VCALENDAR