BEGIN:VCALENDAR
VERSION:2.0
PRODID:LFV Website-Kit
METHOD:PUBLISH
BEGIN:VEVENT
UID:lfv-d101ebda-78de-4885-a09d-f0854ff9a175
LOCATION:Große Alle 24 89407 Dillingen/ Donau
SUMMARY:Frühjahresdienstversammlung der Kdt. und Mitgliederversammlung des KFV-Dillingen
DESCRIPTION:Termin Link: http://www.kfv-dillingen.de/termine/fruhjahresdienstversammlung-der-kdt-und-mitgliederversammlung-des-kfv-dillingen-3/
URL:http://www.kfv-dillingen.de/termine/fruhjahresdienstversammlung-der-kdt-und-mitgliederversammlung-des-kfv-dillingen-3/
CLASS:PRIVATE
DTSTART;TZID=Europe/Berlin:20270319T193000
DTEND;TZID=Europe/Berlin:20270319T223000
DTSTAMP:20260422T183007Z
END:VEVENT
END:VCALENDAR