BEGIN:VCALENDAR
VERSION:2.0
PRODID:LFV Website-Kit
METHOD:PUBLISH
BEGIN:VEVENT
UID:lfv-5a62ddad-59de-4f97-ae32-73aff14d7093
LOCATION:Große Alle 24 89407 Dillingen/ Donau
SUMMARY:Frühjahresdienstversammlung der Kdt. und Mitgliederversammlung des KFV-Dillingen
DESCRIPTION:Termin Link: http://www.kfv-dillingen.de/termine/fruhjahresdienstversammlung-der-kdt-und-mitgliederversammlung-des-kfv-dillingen-4/
URL:http://www.kfv-dillingen.de/termine/fruhjahresdienstversammlung-der-kdt-und-mitgliederversammlung-des-kfv-dillingen-4/
CLASS:PRIVATE
DTSTART;TZID=Europe/Berlin:20280406T193000
DTEND;TZID=Europe/Berlin:20280406T223000
DTSTAMP:20260423T180816Z
END:VEVENT
END:VCALENDAR