BEGIN:VCALENDAR
VERSION:2.0
PRODID:LFV Website-Kit
METHOD:PUBLISH
BEGIN:VEVENT
UID:lfv-83d61962-424f-43f6-b684-77a85ee2e620
LOCATION:89426 Bergheim
SUMMARY:GV Bergheim
DESCRIPTION:Termin Link: http://www.kfv-dillingen.de/termine/gv-bergheim/
URL:http://www.kfv-dillingen.de/termine/gv-bergheim/
CLASS:PRIVATE
DTSTART;TZID=Europe/Berlin:20260417T000000
DTEND;TZID=Europe/Berlin:20260717T000000
DTSTAMP:20260420T122548Z
END:VEVENT
END:VCALENDAR