BEGIN:VCALENDAR
VERSION:2.0
PRODID:LFV Website-Kit
METHOD:PUBLISH
BEGIN:VEVENT
UID:lfv-cccd4520-3c54-40f8-8c53-f34f295ae694
LOCATION:Reistingen
SUMMARY:GV Reistingen
DESCRIPTION:Termin Link: http://www.kfv-dillingen.de/termine/gv-reistingen/
URL:http://www.kfv-dillingen.de/termine/gv-reistingen/
CLASS:PRIVATE
DTSTART;TZID=Europe/Berlin:20260503T100000
DTEND;TZID=Europe/Berlin:20260503T123000
DTSTAMP:20260420T142214Z
END:VEVENT
END:VCALENDAR