BEGIN:VCALENDAR
VERSION:2.0
PRODID:LFV Website-Kit
METHOD:PUBLISH
BEGIN:VEVENT
UID:lfv-58095fb6-663b-4606-b7cb-70731900d4a7
LOCATION:Schützenstraße 9  89435 Finningen
SUMMARY:GV Schabringen
DESCRIPTION:Termin Link: http://www.kfv-dillingen.de/termine/gv-schabringen/
URL:http://www.kfv-dillingen.de/termine/gv-schabringen/
CLASS:PRIVATE
DTSTART;TZID=Europe/Berlin:20261107T190000
DTEND;TZID=Europe/Berlin:20261107T213000
DTSTAMP:20260422T084122Z
END:VEVENT
END:VCALENDAR