BEGIN:VCALENDAR
VERSION:2.0
PRODID:LFV Website-Kit
METHOD:PUBLISH
BEGIN:VEVENT
UID:lfv-2f858cbc-517e-46ff-80bb-8667796d58b7
LOCATION:Bahnofstraße 89426 Wittislingen
SUMMARY:GV Wittislingen
DESCRIPTION:Termin Link: http://www.kfv-dillingen.de/termine/gv-wittislingen/
URL:http://www.kfv-dillingen.de/termine/gv-wittislingen/
CLASS:PRIVATE
DTSTART;TZID=Europe/Berlin:20270116T190000
DTEND;TZID=Europe/Berlin:20270116T210000
DTSTAMP:20260422T164222Z
END:VEVENT
END:VCALENDAR