BEGIN:VCALENDAR
VERSION:2.0
PRODID:LFV Website-Kit
METHOD:PUBLISH
BEGIN:VEVENT
UID:lfv-fe590787-4ab2-4f4e-a036-af3a9bae1c9c
LOCATION:Syrgenstein
SUMMARY:Herbstdienstversammlung der Kreisjugendfeuerwehr
DESCRIPTION:Termin Link: http://www.kfv-dillingen.de/termine/herbstdienstversammlung-der-kreisjugendfeuerwehr-1/
URL:http://www.kfv-dillingen.de/termine/herbstdienstversammlung-der-kreisjugendfeuerwehr-1/
CLASS:PRIVATE
DTSTART;TZID=Europe/Berlin:20261123T190000
DTEND;TZID=Europe/Berlin:20261123T220000
DTSTAMP:20260422T132725Z
END:VEVENT
END:VCALENDAR