BEGIN:VCALENDAR
VERSION:2.0
PRODID:LFV Website-Kit
METHOD:PUBLISH
BEGIN:VEVENT
UID:lfv-80166d27-8d61-41b0-a664-a6168eb36c6f
LOCATION:Große Alle 24 89407 Dillingen
SUMMARY:Herbstdienstversammlung KBI-Bereich Nord (KBI Schön)
DESCRIPTION:Dienstversammlung der Kdt.\n\nTermin Link: http://www.kfv-dillingen.de/termine/herbstdienstversammlung-kbi-bereich-nord-kbi-schon/
URL:http://www.kfv-dillingen.de/termine/herbstdienstversammlung-kbi-bereich-nord-kbi-schon/
CLASS:PRIVATE
DTSTART;TZID=Europe/Berlin:20261117T190000
DTEND;TZID=Europe/Berlin:20261117T223000
DTSTAMP:20260422T101302Z
END:VEVENT
END:VCALENDAR