BEGIN:VCALENDAR
VERSION:2.0
PRODID:LFV Website-Kit
METHOD:PUBLISH
BEGIN:VEVENT
UID:lfv-96387e49-3661-48e3-85b2-ced0fe3bef6a
LOCATION:Große Alle 24 89407 Dillingen
SUMMARY:Herbstdienstversammlung KBI-Bereich Süd (KBI Neidlinger)
DESCRIPTION:Dienstversammlung der Kdt.\n\nTermin Link: http://www.kfv-dillingen.de/termine/herbstdienstversammlung-kbi-bereich-sud-kbi-neidlinger/
URL:http://www.kfv-dillingen.de/termine/herbstdienstversammlung-kbi-bereich-sud-kbi-neidlinger/
CLASS:PRIVATE
DTSTART;TZID=Europe/Berlin:20261118T190000
DTEND;TZID=Europe/Berlin:20261118T223000
DTSTAMP:20260422T114626Z
END:VEVENT
END:VCALENDAR