BEGIN:VCALENDAR
VERSION:2.0
PRODID:LFV Website-Kit
METHOD:PUBLISH
BEGIN:VEVENT
UID:lfv-a8e68ea3-95b2-489c-b35a-247f1c10768f
LOCATION:Ostallgäu
SUMMARY:Herbstdienstversammlung Regierung von Schwaben
DESCRIPTION:Termin Link: http://www.kfv-dillingen.de/termine/herbstdienstversammlung-regierung-von-schwaben/
URL:http://www.kfv-dillingen.de/termine/herbstdienstversammlung-regierung-von-schwaben/
CLASS:PRIVATE
DTSTART;TZID=Europe/Berlin:20261023T080000
DTEND;TZID=Europe/Berlin:20261023T163000
DTSTAMP:20260422T044748Z
END:VEVENT
END:VCALENDAR