BEGIN:VCALENDAR
VERSION:2.0
PRODID:LFV Website-Kit
METHOD:PUBLISH
BEGIN:VEVENT
UID:lfv-c16f8113-24f6-4a51-b4d8-935af74043b3
LOCATION:Weisingen
SUMMARY:Jugendleistungsprüfung und Kreismeisterschaft der Jugendfeuerwehr im Lkr. DLG
DESCRIPTION:Termin Link: http://www.kfv-dillingen.de/termine/jugendleistungsprufung-und-kreismeisterschaft-der-jugendfeuerwehr-im-lkr-dlg/
URL:http://www.kfv-dillingen.de/termine/jugendleistungsprufung-und-kreismeisterschaft-der-jugendfeuerwehr-im-lkr-dlg/
CLASS:PRIVATE
DTSTART;VALUE=DATE:20260613
DTEND;VALUE=DATE:20260614
DTSTAMP:20260420T235313Z
END:VEVENT
END:VCALENDAR