BEGIN:VCALENDAR
VERSION:2.0
PRODID:LFV Website-Kit
METHOD:PUBLISH
BEGIN:VEVENT
UID:lfv-5e5a7972-7666-4256-a4c8-b4b1c881db00
LOCATION:89423 Gundelfingen
SUMMARY:KFV-DLG - Infotag ABC/ CRBN
DESCRIPTION:Vorstellung der ABC-, CBRN- und Dekon- Materialien im Landkreis\n\nTermin Link: http://www.kfv-dillingen.de/termine/kfv-dlg-infotag-abc-crbn/
URL:http://www.kfv-dillingen.de/termine/kfv-dlg-infotag-abc-crbn/
CLASS:PRIVATE
DTSTART;VALUE=DATE:20261017
DTEND;VALUE=DATE:20261018
DTSTAMP:20260422T032159Z
END:VEVENT
END:VCALENDAR