BEGIN:VCALENDAR
VERSION:2.0
PRODID:LFV Website-Kit
METHOD:PUBLISH
BEGIN:VEVENT
UID:lfv-9bc5091c-3538-412f-9caa-995e8936a672
LOCATION:Höchstädt a.d.Donau
SUMMARY:Treffen der Atemschutzverantwortlichen im Lkr. Dillingen
DESCRIPTION:Termin Link: http://www.kfv-dillingen.de/termine/treffen-der-atemschutzverantwortlichen-im-lkr-dillingen-1/
URL:http://www.kfv-dillingen.de/termine/treffen-der-atemschutzverantwortlichen-im-lkr-dillingen-1/
CLASS:PRIVATE
DTSTART;TZID=Europe/Berlin:20261124T193000
DTEND;TZID=Europe/Berlin:20261124T220000
DTSTAMP:20260422T150646Z
END:VEVENT
END:VCALENDAR